BEGIN:VCALENDAR
VERSION:2.0
PRODID:SchoolNow
CALSCALE:GREGORIAN
BEGIN:VEVENT
UID:2d7e3882-7d02-11eb-93f5-0add2afd9e17
DTSTAMP:20210304T155627Z
SUMMARY:Virtual Fine Arts Showcase
URL;VALUE=URI:https://www.pennoyerschool.org/calendar/2551937/virtual-fine-
 arts-showcase
DTSTART:20210427T233000Z
DTEND:20210428T003000Z
END:VEVENT
END:VCALENDAR
