BEGIN:VCALENDAR
VERSION:2.0
PRODID:SchoolNow
CALSCALE:GREGORIAN
BEGIN:VEVENT
UID:fecb07b0-ac1b-11eb-a8ca-0eea2ed7bc51
DTSTAMP:20210503T142940Z
SUMMARY:Board Meeting-Reorganization of Board
LOCATION:MPR
URL;VALUE=URI:https://www.pennoyerschool.org/calendar/2592054/board-meeting
 -reorganiztion-of-board
DTSTART:20210513T003000Z
DTEND:20210513T013000Z
END:VEVENT
END:VCALENDAR
