BEGIN:VCALENDAR
VERSION:2.0
PRODID:SchoolNow
CALSCALE:GREGORIAN
BEGIN:VEVENT
UID:d3fd070e-89dd-11ec-9bab-02a61867e05b
DTSTAMP:20220209T192357Z
SUMMARY:Kindergarten Preregistration
URL;VALUE=URI:https://www.pennoyerschool.org/calendar/3098284/kindergarten-
 preregistration
DTSTART:20220316T230000Z
DTEND:20220317T000000Z
END:VEVENT
END:VCALENDAR
