BEGIN:VCALENDAR
VERSION:2.0
PRODID:SchoolNow
CALSCALE:GREGORIAN
BEGIN:VEVENT
UID:229d7674-823d-11ee-b6dc-0a58a9feac02
DTSTAMP:20231113T155558Z
SUMMARY:School Office CLOSED 12/25/2023-1/05/2024-Winter Break
URL;VALUE=URI:https://www.pennoyerschool.org/calendar/4944094/school-office
 -closed-12-20-2021-12-31-2021-winter-break-clone-clone-clone-clone-clone-c
 lone-clone-clone-clone-clone-clone-clone-clone-clone-clone-clone
DTSTART;VALUE=DATE:20231228
DTEND;VALUE=DATE:20231229
END:VEVENT
END:VCALENDAR
