BEGIN:VCALENDAR
VERSION:2.0
PRODID:SchoolNow
CALSCALE:GREGORIAN
BEGIN:VEVENT
UID:32ea04c0-823d-11ee-b437-0e9a4343db59
DTSTAMP:20231113T155625Z
SUMMARY:School Office CLOSED 12/25/2023-1/05/2024-Winter Break
URL;VALUE=URI:https://www.pennoyerschool.org/calendar/4944096/school-office
 -closed-12-20-2021-12-31-2021-winter-break-clone-clone-clone-clone-clone-c
 lone-clone-clone-clone-clone-clone-clone-clone-clone-clone-clone-clone-clo
 ne
DTSTART;VALUE=DATE:20240101
DTEND;VALUE=DATE:20240102
END:VEVENT
END:VCALENDAR
