BEGIN:VCALENDAR
VERSION:2.0
PRODID:SchoolNow
CALSCALE:GREGORIAN
BEGIN:VEVENT
UID:4da2100a-823d-11ee-aecc-0a58a9feac02
DTSTAMP:20231113T155710Z
SUMMARY:School Office CLOSED 12/25/2023-1/05/2024-Winter Break
URL;VALUE=URI:https://www.pennoyerschool.org/calendar/4944100/school-office
 -closed-12-20-2021-12-31-2021-winter-break-clone-clone-clone-clone-clone-c
 lone-clone-clone-clone-clone-clone-clone-clone-clone-clone-clone-clone-clo
 ne-clone-clone-clone-clone
DTSTART;VALUE=DATE:20240105
DTEND;VALUE=DATE:20240106
END:VEVENT
END:VCALENDAR
