BEGIN:VCALENDAR
VERSION:2.0
PRODID:SchoolNow
CALSCALE:GREGORIAN
BEGIN:VEVENT
UID:34b348b2-cd0a-11ee-a657-0a58a9feac02
DTSTAMP:20240216T203021Z
SUMMARY:School Office CLOSED-Spring Break
URL;VALUE=URI:https://www.pennoyerschool.org/calendar/5342430/school-office
 -closed-spring-break-clone-clone-clone
DTSTART;VALUE=DATE:20240326
DTEND;VALUE=DATE:20240327
END:VEVENT
END:VCALENDAR
