BEGIN:VCALENDAR
VERSION:2.0
PRODID:SchoolNow
CALSCALE:GREGORIAN
BEGIN:VEVENT
UID:3a9573f4-cd0a-11ee-9840-0a5ee59771dd
DTSTAMP:20240216T203031Z
SUMMARY:School Office CLOSED-Spring Break
URL;VALUE=URI:https://www.pennoyerschool.org/calendar/5342431/school-office
 -closed-spring-break-clone-clone-clone-clone
DTSTART;VALUE=DATE:20240327
DTEND;VALUE=DATE:20240328
END:VEVENT
END:VCALENDAR
