BEGIN:VCALENDAR
VERSION:2.0
PRODID:SchoolNow
CALSCALE:GREGORIAN
BEGIN:VEVENT
UID:400ac69a-cd0a-11ee-908a-0a5ee59771dd
DTSTAMP:20240216T203040Z
SUMMARY:School Office CLOSED-Spring Break
URL;VALUE=URI:https://www.pennoyerschool.org/calendar/5342432/school-office
 -closed-spring-break-clone-clone-clone
DTSTART;VALUE=DATE:20240328
DTEND;VALUE=DATE:20240329
END:VEVENT
END:VCALENDAR
