BEGIN:VCALENDAR
VERSION:2.0
PRODID:SchoolNow
CALSCALE:GREGORIAN
BEGIN:VEVENT
UID:44cf8d50-cd0a-11ee-af56-0a58a9feac02
DTSTAMP:20240216T203048Z
SUMMARY:School Office CLOSED-Spring Break
URL;VALUE=URI:https://www.pennoyerschool.org/calendar/5342433/school-office
 -closed-spring-break-clone-clone-clone-clone
DTSTART;VALUE=DATE:20240329
DTEND;VALUE=DATE:20240330
END:VEVENT
END:VCALENDAR
