BEGIN:VCALENDAR
VERSION:2.0
PRODID:SchoolNow
CALSCALE:GREGORIAN
BEGIN:VEVENT
UID:eb814fd0-ec3b-11ee-a69f-0affc1df63c1
DTSTAMP:20240327T131419Z
SUMMARY:District Office CLOSED-Spring Break
URL;VALUE=URI:https://www.pennoyerschool.org/calendar/5643752/school-office
 -closed-spring-break-clone-clone-clone-clone-clone
DTSTART;VALUE=DATE:20240329
DTEND;VALUE=DATE:20240330
END:VEVENT
END:VCALENDAR
