BEGIN:VCALENDAR
VERSION:2.0
PRODID:SchoolNow
CALSCALE:GREGORIAN
BEGIN:VEVENT
UID:286a76d8-ec3c-11ee-bc22-0a58a9feac02
DTSTAMP:20240327T131601Z
SUMMARY:District & School Offices CLOSED
URL;VALUE=URI:https://www.pennoyerschool.org/calendar/5643753/district-scho
 ol-offices-closed
DTSTART;VALUE=DATE:20240401
DTEND;VALUE=DATE:20240402
END:VEVENT
END:VCALENDAR
