BEGIN:VCALENDAR
VERSION:2.0
PRODID:SchoolNow
CALSCALE:GREGORIAN
BEGIN:VEVENT
UID:8b371a18-323d-11ef-84a7-0a58a9feac02
DTSTAMP:20240624T152218Z
SUMMARY:District Office CLOSED beginning 7/4 & 7/5 | Re-opens 7/8
URL;VALUE=URI:https://www.pennoyerschool.org/calendar/6162380/district-offi
 ce-closed-beginning-7-4-7-5-re-opens-7-8
DTSTART;VALUE=DATE:20240704
DTEND;VALUE=DATE:20240707
END:VEVENT
END:VCALENDAR
