BEGIN:VCALENDAR
VERSION:2.0
PRODID:SchoolNow
CALSCALE:GREGORIAN
BEGIN:VEVENT
UID:138f803c-0071-11f1-bcba-0e6f59d4680b
DTSTAMP:20260220T195007Z
SUMMARY:Last Day of School-If four (4) emergency/snow days are used
URL;VALUE=URI:https://www.pennoyerschool.org/calendar/8848088/last-day-of-s
 chool-if-four-4-emergency-snow-days-are-used
DTSTART:20270609T130000Z
DTEND:20270609T200000Z
END:VEVENT
END:VCALENDAR
