BEGIN:VCALENDAR
VERSION:2.0
PRODID:SchoolNow
CALSCALE:GREGORIAN
BEGIN:VEVENT
UID:138fd5fa-0071-11f1-afe0-0e6f59d4680b
DTSTAMP:20260220T195007Z
SUMMARY:Winter Break 12/21-1/1-School Not in Session
URL;VALUE=URI:https://www.pennoyerschool.org/calendar/8848095/winter-break-
 12-21-1-1-school-not-in-session
DTSTART:20270101T060000Z
DTEND:20270102T053000Z
END:VEVENT
END:VCALENDAR
