BEGIN:VCALENDAR
VERSION:2.0
PRODID:SchoolNow
CALSCALE:GREGORIAN
BEGIN:VEVENT
UID:138fd708-0071-11f1-b538-0e6f59d4680b
DTSTAMP:20260220T195007Z
SUMMARY:School Resumes-Full Day of School
URL;VALUE=URI:https://www.pennoyerschool.org/calendar/8848096/school-resume
 s-full-day-of-school
DTSTART:20270330T130000Z
DTEND:20270330T200000Z
END:VEVENT
END:VCALENDAR
