BEGIN:VCALENDAR
VERSION:2.0
PRODID:SchoolNow
CALSCALE:GREGORIAN
BEGIN:VEVENT
UID:138fd870-0071-11f1-92f1-0e6f59d4680b
DTSTAMP:20260220T195007Z
SUMMARY:Spring Break Break 3/22-3/26 | School Not in Session
URL;VALUE=URI:https://www.pennoyerschool.org/calendar/8848097/spring-break-
 break-3-22-3-26-school-not-in-session
DTSTART:20270322T050000Z
DTEND:20270323T043000Z
END:VEVENT
END:VCALENDAR
