BEGIN:VCALENDAR
VERSION:2.0
PRODID:SchoolNow
CALSCALE:GREGORIAN
BEGIN:VEVENT
UID:138fda0a-0071-11f1-886f-0e6f59d4680b
DTSTAMP:20260220T195007Z
SUMMARY:Half Day -Student Dismissal 11:30am
URL;VALUE=URI:https://www.pennoyerschool.org/calendar/8848098/half-day-stud
 ent-dismissal-11-30am
DTSTART:20270528T130000Z
DTEND:20270528T163000Z
END:VEVENT
END:VCALENDAR
