BEGIN:VCALENDAR
VERSION:2.0
PRODID:SchoolNow
CALSCALE:GREGORIAN
BEGIN:VEVENT
UID:138fdd70-0071-11f1-8171-0e6f59d4680b
DTSTAMP:20260220T195007Z
SUMMARY:Memorial Day-School Not in Session
URL;VALUE=URI:https://www.pennoyerschool.org/calendar/8848101/memorial-day-
 school-not-in-session
DTSTART:20270531T050000Z
DTEND:20270601T043000Z
END:VEVENT
END:VCALENDAR
