BEGIN:VCALENDAR
VERSION:2.0
PRODID:SchoolNow
CALSCALE:GREGORIAN
BEGIN:VEVENT
UID:138fdee2-0071-11f1-95b0-0e6f59d4680b
DTSTAMP:20260220T195007Z
SUMMARY:Presidents' Day-School Not in Session
URL;VALUE=URI:https://www.pennoyerschool.org/calendar/8848102/presidents-da
 y-school-not-in-session
DTSTART:20270215T060000Z
DTEND:20270216T053000Z
END:VEVENT
END:VCALENDAR
