BEGIN:VCALENDAR
VERSION:2.0
PRODID:SchoolNow
CALSCALE:GREGORIAN
BEGIN:VEVENT
UID:138fe234-0071-11f1-a914-0e6f59d4680b
DTSTAMP:20260220T195007Z
SUMMARY:Half Day -Student Dismissal 11:30am
URL;VALUE=URI:https://www.pennoyerschool.org/calendar/8848104/half-day-stud
 ent-dismissal-11-30am
DTSTART:20270212T140000Z
DTEND:20270212T173000Z
END:VEVENT
END:VCALENDAR
