BEGIN:VCALENDAR
VERSION:2.0
PRODID:SchoolNow
CALSCALE:GREGORIAN
BEGIN:VEVENT
UID:13f81d4a-0071-11f1-a4f2-0e6f59d4680b
DTSTAMP:20260220T195007Z
SUMMARY:Last Day of School-If five (5) emergency/snow days are used
URL;VALUE=URI:https://www.pennoyerschool.org/calendar/8848115/last-day-of-s
 chool-if-five-5-emergency-snow-days-are-used
DTSTART:20270610T130000Z
DTEND:20270610T200000Z
END:VEVENT
END:VCALENDAR
