BEGIN:VCALENDAR
VERSION:2.0
PRODID:SchoolNow
CALSCALE:GREGORIAN
BEGIN:VEVENT
UID:13f82042-0071-11f1-95f0-0e6f59d4680b
DTSTAMP:20260220T195007Z
SUMMARY:Parent/Teacher Conferences Hal Day | 12:15pm-3:00pm
URL;VALUE=URI:https://www.pennoyerschool.org/calendar/8848118/parent-teache
 r-conferences-hal-day-12-15pm-3-00pm
DTSTART:20270212T181500Z
DTEND:20270212T210000Z
END:VEVENT
END:VCALENDAR
