BEGIN:VCALENDAR
VERSION:2.0
PRODID:SchoolNow
CALSCALE:GREGORIAN
BEGIN:VEVENT
UID:13f827ae-0071-11f1-8c7b-0e6f59d4680b
DTSTAMP:20260220T195007Z
SUMMARY:Last Day of School-If one (1) emergency/snow day is used
URL;VALUE=URI:https://www.pennoyerschool.org/calendar/8848125/last-day-of-s
 chool-if-one-1-emergency-snow-day-is-used
DTSTART:20270604T130000Z
DTEND:20270604T200000Z
END:VEVENT
END:VCALENDAR
