BEGIN:VCALENDAR
VERSION:2.0
PRODID:SchoolNow
CALSCALE:GREGORIAN
BEGIN:VEVENT
UID:13f828a8-0071-11f1-8ce2-0e6f59d4680b
DTSTAMP:20260220T195007Z
SUMMARY:School Not in Session
URL;VALUE=URI:https://www.pennoyerschool.org/calendar/8848126/school-not-in
 -session
DTSTART:20270329T050000Z
DTEND:20270330T043000Z
END:VEVENT
END:VCALENDAR
