BEGIN:VCALENDAR
VERSION:2.0
PRODID:SchoolNow
CALSCALE:GREGORIAN
BEGIN:VEVENT
UID:13f82a92-0071-11f1-82fb-0e6f59d4680b
DTSTAMP:20260220T195007Z
SUMMARY:Last Day of School-If three (3) emergency/snow days are used
URL;VALUE=URI:https://www.pennoyerschool.org/calendar/8848128/last-day-of-s
 chool-if-three-3-emergency-snow-days-are-used
DTSTART:20270608T130000Z
DTEND:20270608T200000Z
END:VEVENT
END:VCALENDAR
