BEGIN:VCALENDAR
VERSION:2.0
PRODID:SchoolNow
CALSCALE:GREGORIAN
BEGIN:VEVENT
UID:13f82d08-0071-11f1-8a15-0e6f59d4680b
DTSTAMP:20260220T195007Z
SUMMARY:Martin Luther King Day-School Not in Session
URL;VALUE=URI:https://www.pennoyerschool.org/calendar/8848130/martin-luther
 -king-day-school-not-in-session
DTSTART:20270118T060000Z
DTEND:20270119T053000Z
END:VEVENT
END:VCALENDAR
