BEGIN:VCALENDAR
VERSION:2.0
PRODID:SchoolNow
CALSCALE:GREGORIAN
BEGIN:VEVENT
UID:13f82fce-0071-11f1-b63d-0e6f59d4680b
DTSTAMP:20260220T195007Z
SUMMARY:Last Day of School-If no (zero) emergency days are used
URL;VALUE=URI:https://www.pennoyerschool.org/calendar/8848132/last-day-of-s
 chool-if-no-zero-emergency-days-are-used
DTSTART:20270603T130000Z
DTEND:20270603T200000Z
END:VEVENT
END:VCALENDAR
