BEGIN:VCALENDAR
VERSION:2.0
PRODID:SchoolNow
CALSCALE:GREGORIAN
BEGIN:VEVENT
UID:7b108564-0c31-11f1-8cf7-0affd176e2dd
DTSTAMP:20260220T195007Z
SUMMARY:Pizza Lunch
URL;VALUE=URI:https://www.pennoyerschool.org/calendar/8857996/pizza-lunch
DTSTART;VALUE=DATE:20270312
DTEND;VALUE=DATE:20270313
END:VEVENT
END:VCALENDAR
